BEGIN:VCALENDAR
VERSION:2.0
PRODID:-//OmniMagnetCalendar//EN
BEGIN:VEVENT
DTSTAMP:20190625T195740Z
STATUS:CONFIRMED
UID:hcpalmbeaches.clubs.harvard.edu328
DTSTART:20190102T170000Z
DTEND:20190102T183000Z
LOCATION:Restaurant 44 Palm Beach, 44 Cocoanut Row, Palm Beach, FL, 33480, USA,
SUMMARY:January Mid-County Luncheon | Wed. Jan. 2
DESCRIPTION:New Venue Annoucement: Restaurant 44
BEGIN:VALARM
TRIGGER:-PT15M
ACTION:DISPLAY
END:VALARM
TRANSP:OPAQUE
END:VEVENT
END:VCALENDAR
