BEGIN:VCALENDAR
VERSION:2.0
PRODID:-//OmniMagnetCalendar//EN
BEGIN:VEVENT
DTSTAMP:20190625T195740Z
STATUS:CONFIRMED
UID:hcpalmbeaches.clubs.harvard.edu525
DTSTART:20220607T220000Z
DTEND:20220607T230000Z
LOCATION:Virtual,
SUMMARY:Harvard Club of the Palm Beaches Book Discussion
DESCRIPTION:“Mountains Beyond Mountains: The Quest of Dr. Paul Farmer, a Man Who Would Cure the World” by: Tracy Kidder AB ’67 This biography describes the remarkable life of Dr. Paul Farmer (MD ’88, PhD ’90)
BEGIN:VALARM
TRIGGER:-PT15M
ACTION:DISPLAY
END:VALARM
TRANSP:OPAQUE
END:VEVENT
END:VCALENDAR
