BEGIN:VCALENDAR
VERSION:2.0
PRODID:-//OmniMagnetCalendar//EN
BEGIN:VEVENT
DTSTAMP:20190625T195740Z
STATUS:CONFIRMED
UID:hcpalmbeaches.clubs.harvard.edu593
DTSTART:20230608T230000Z
DTEND:20230609T000000Z
LOCATION:Virtual,
SUMMARY:HC Miami - Self-Compassion and Freedom from the Inner Critic
DESCRIPTION:IMP: NEW DATE! Join us for a VIRTUAL discussion with Elizabeth Pyjov and learn to better understand what self-compassion is, the science of self-compassion, and how to practice it on a daily basis.
BEGIN:VALARM
TRIGGER:-PT15M
ACTION:DISPLAY
END:VALARM
TRANSP:OPAQUE
END:VEVENT
END:VCALENDAR
