BEGIN:VCALENDAR
VERSION:2.0
PRODID:-//OmniMagnetCalendar//EN
BEGIN:VEVENT
DTSTAMP:20190625T195740Z
STATUS:CONFIRMED
UID:hcpalmbeaches.clubs.harvard.edu608
DTSTART:20230906T160000Z
DTEND:20230906T173000Z
LOCATION:El Camino WPB, 700 S Rosemary Ave, Palm Beach, FL, 33480, USA,
SUMMARY:Palm Beach County Monthly Luncheon
DESCRIPTION:VENUE UPDATE: EL CAMINO WPB! Join the Harvard Club of the Palm Beaches for the Club's popular Palm Beach County Monthly Luncheon! Always held first Wednesdays in Palm Beach. 
BEGIN:VALARM
TRIGGER:-PT15M
ACTION:DISPLAY
END:VALARM
TRANSP:OPAQUE
END:VEVENT
END:VCALENDAR
