BEGIN:VCALENDAR
VERSION:2.0
PRODID:-//OmniMagnetCalendar//EN
BEGIN:VEVENT
DTSTAMP:20190625T195740Z
STATUS:CONFIRMED
UID:hcpalmbeaches.clubs.harvard.edu610
DTSTART:20231102T220000Z
DTEND:20231102T230000Z
LOCATION:Virtual,
SUMMARY:Book Discussion "The Tyranny of Merit: Can We Find the Common Good?" by Michael Sandel
DESCRIPTION:We will discuss Harvard Professor Michael Sandel's examination of the politics and history of university admissions, including the use of the SAT.
BEGIN:VALARM
TRIGGER:-PT15M
ACTION:DISPLAY
END:VALARM
TRANSP:OPAQUE
END:VEVENT
END:VCALENDAR
