BEGIN:VCALENDAR
VERSION:2.0
PRODID:-//OmniMagnetCalendar//EN
BEGIN:VEVENT
DTSTAMP:20190625T195740Z
STATUS:CONFIRMED
UID:hcpalmbeaches.clubs.harvard.edu617
DTSTART:20241018T230000Z
DTEND:20241019T030000Z
LOCATION:The Home of Miguel Sancho and Felicia Morton,
SUMMARY:"Crimson" & Clover HALLOWEEN PARTY!
DESCRIPTION:Join the Club for a Spirited Soirée with a splash of 60's style! Come as your favorite Rock Star from any era or just keep it groovy, Baby!
BEGIN:VALARM
TRIGGER:-PT15M
ACTION:DISPLAY
END:VALARM
TRANSP:OPAQUE
END:VEVENT
END:VCALENDAR
