BEGIN:VCALENDAR
VERSION:2.0
PRODID:-//OmniMagnetCalendar//EN
BEGIN:VEVENT
DTSTAMP:20190625T195740Z
STATUS:CONFIRMED
UID:hcpalmbeaches.clubs.harvard.edu631
DTSTART:20240212T230000Z
DTEND:20240213T000000Z
LOCATION:Virtual,
SUMMARY:Book Discussion "The Revolutionary: Samuel Adams" by Stacy Schiff
DESCRIPTION:In this biography, Pulitzer Prize-winning author Stacy Schiff documents how Adams’ moral leadership, creative tactics, and vision led to the greatest campaign of civil resistance in American history—the revolution.
BEGIN:VALARM
TRIGGER:-PT15M
ACTION:DISPLAY
END:VALARM
TRANSP:OPAQUE
END:VEVENT
END:VCALENDAR
