BEGIN:VCALENDAR
VERSION:2.0
PRODID:-//OmniMagnetCalendar//EN
BEGIN:VEVENT
DTSTAMP:20190625T195740Z
STATUS:CONFIRMED
UID:hcpalmbeaches.clubs.harvard.edu634
DTSTART:20240313T223000Z
DTEND:20240314T003000Z
LOCATION:Canopy by Hilton West Palm Beach Downtown, 380 Trinity Place, West Palm Beach, FL, 33401,
SUMMARY:Harvard Global Networking Night 2024
DESCRIPTION:Join the Club to reconnect with classmates and make new connections! GNN is a great opportunity to explore and expand your Harvard Network!
BEGIN:VALARM
TRIGGER:-PT15M
ACTION:DISPLAY
END:VALARM
TRANSP:OPAQUE
END:VEVENT
END:VCALENDAR
