BEGIN:VCALENDAR
VERSION:2.0
PRODID:-//OmniMagnetCalendar//EN
BEGIN:VEVENT
DTSTAMP:20190625T195740Z
STATUS:CONFIRMED
UID:hcpalmbeaches.clubs.harvard.edu638
DTSTART:20240221T230000Z
DTEND:20240222T010000Z
LOCATION:Old Palm Beach Post Office, 95 N. County Road, Palm Beach, FL, 33480,
SUMMARY:The Great Wealth Transfer - Tracking Wealth through the Art Market
DESCRIPTION:THIS EVENT IS SOLD OUT! Where is the world’s elite putting its money? Join the Club for a fascinating exploration through the single-owner collections coming to market. A must-see presentation for Young Professionals as well as Baby Boomers.
BEGIN:VALARM
TRIGGER:-PT15M
ACTION:DISPLAY
END:VALARM
TRANSP:OPAQUE
END:VEVENT
END:VCALENDAR
