BEGIN:VCALENDAR
VERSION:2.0
PRODID:-//OmniMagnetCalendar//EN
BEGIN:VEVENT
DTSTAMP:20190625T195740Z
STATUS:CONFIRMED
UID:hcpalmbeaches.clubs.harvard.edu643
DTSTART:20240320T220000Z
DTEND:20240320T233000Z
LOCATION:Posh Art Gallery/Design Studio, 9089 W Atlantic Ave., Suite 104, Delray Beach, FL, 33446,
SUMMARY:Posh Art Gallery Tour featuring the Work of Jake Packard and 65 Other Local Artists
DESCRIPTION:Join us for an evening of visual delight at Posh Gallery. Harvard Club member Jake Packard will discuss his display of photo art, and gallery owner Kimberly Perry will conduct a docent tour of the other contemporary art exhibited in 4,000 sqft space.
BEGIN:VALARM
TRIGGER:-PT15M
ACTION:DISPLAY
END:VALARM
TRANSP:OPAQUE
END:VEVENT
END:VCALENDAR
