BEGIN:VCALENDAR
VERSION:2.0
PRODID:-//OmniMagnetCalendar//EN
BEGIN:VEVENT
DTSTAMP:20190625T195740Z
STATUS:CONFIRMED
UID:hcpalmbeaches.clubs.harvard.edu648
DTSTART:20240408T220000Z
DTEND:20240409T000000Z
LOCATION:Farmer's Table @ Wyndham Boca Raton, 1901 N Military Trail, Boca Raton, FL, 33431,
SUMMARY:2024 Harvard Speaker Event:  "HARVARD CHALLENGED"
DESCRIPTION:John S. Rosenberg, Editor of Harvard Magazine, will discuss the strengths and challenges that the University has faced over the past couple of decades, a period marked by rapid changes.
BEGIN:VALARM
TRIGGER:-PT15M
ACTION:DISPLAY
END:VALARM
TRANSP:OPAQUE
END:VEVENT
END:VCALENDAR
