BEGIN:VCALENDAR
VERSION:2.0
PRODID:-//OmniMagnetCalendar//EN
BEGIN:VEVENT
DTSTAMP:20190625T195740Z
STATUS:CONFIRMED
UID:hcpalmbeaches.clubs.harvard.edu650
DTSTART:20240316T210000Z
DTEND:20240316T230000Z
LOCATION:SALT Waterfront Restaurant - University of Miami RSMAS Campus, 4600 RICKENBACKER CSWY,  KEY BISCAYNE, FL, 33149,
SUMMARY:HC Miami: Harvard Faculty Speaker Event: Professor Charles Waldheim
DESCRIPTION:The Harvard Club of Miami is pleased to bring back the Distinguished Harvard Faculty Speaker Series to South Florida! We hope you will join us for an evening of learning and discussion with Professor Waldheim.
BEGIN:VALARM
TRIGGER:-PT15M
ACTION:DISPLAY
END:VALARM
TRANSP:OPAQUE
END:VEVENT
END:VCALENDAR
