BEGIN:VCALENDAR
VERSION:2.0
PRODID:-//OmniMagnetCalendar//EN
BEGIN:VEVENT
DTSTAMP:20190625T195740Z
STATUS:CONFIRMED
UID:hcpalmbeaches.clubs.harvard.edu651
DTSTART:20240410T220000Z
DTEND:20240410T230000Z
LOCATION:Virtual,
SUMMARY:Book Discussion: The Left Hand of Darkness" by Ursula Kroeber Le Guin ‘51
DESCRIPTION:Embracing the aspects of psychology, society, and human emotion on an alien world, The Left Hand of Darkness stands as a landmark achievement in the annals of intellectual science fiction. 
BEGIN:VALARM
TRIGGER:-PT15M
ACTION:DISPLAY
END:VALARM
TRANSP:OPAQUE
END:VEVENT
END:VCALENDAR
