BEGIN:VCALENDAR
VERSION:2.0
PRODID:-//OmniMagnetCalendar//EN
BEGIN:VEVENT
DTSTAMP:20190625T195740Z
STATUS:CONFIRMED
UID:hcpalmbeaches.clubs.harvard.edu652
DTSTART:20240404T220000Z
DTEND:20240405T000000Z
LOCATION:Adrienne's Pizzabar, 378 S Rosemary Ave , West Palm Beach, FL, 33401,
SUMMARY:HBS Alumni Happy Hour – West Palm Beach
DESCRIPTION:Please join the HBS Club of South Florida for their HBS Alumni First Thursday Happy Hour. Welcoming old and new friends as their Club continues to grow. Come meet HBS alumni who are visiting or have recently moved to the area!
BEGIN:VALARM
TRIGGER:-PT15M
ACTION:DISPLAY
END:VALARM
TRANSP:OPAQUE
END:VEVENT
END:VCALENDAR
