BEGIN:VCALENDAR
VERSION:2.0
PRODID:-//OmniMagnetCalendar//EN
BEGIN:VEVENT
DTSTAMP:20190625T195740Z
STATUS:CONFIRMED
UID:hcpalmbeaches.clubs.harvard.edu654
DTSTART:20240307T230000Z
DTEND:20240308T010000Z
LOCATION:Tideline Ocean Resort, 2842 South Ocean Blvd, Palm Beach, FL, 33480,
SUMMARY:Harvard Speaker Event: Crocker Snow, AB '61 "The End of American Exceptionalism"
DESCRIPTION:Have We Seen the End of American Exceptionalism? Crocker Snow, Jr., award-winning journalist, Harvard College alum, globe trotter, and witness to a half-century of history, will share his observations on the forces shaping current world events.
BEGIN:VALARM
TRIGGER:-PT15M
ACTION:DISPLAY
END:VALARM
TRANSP:OPAQUE
END:VEVENT
END:VCALENDAR
