BEGIN:VCALENDAR
VERSION:2.0
PRODID:-//OmniMagnetCalendar//EN
BEGIN:VEVENT
DTSTAMP:20190625T195740Z
STATUS:CONFIRMED
UID:hcpalmbeaches.clubs.harvard.edu655
DTSTART:20240222T223000Z
DTEND:20240223T000000Z
LOCATION:Miami Growth Machine/Concept II Plant , 8881 NW 13th Terrace, Doral , FL, 33172,
SUMMARY:Harvard Alumni Entrepreneurs South Florida
DESCRIPTION:Discovering Fragrance & Miami Growth Machine Plant Tour: Join HAE South Florida for an introduction to fragrances and perfume manufacturing, followed by a tour of the Miami Growth Machine lab and plant.
BEGIN:VALARM
TRIGGER:-PT15M
ACTION:DISPLAY
END:VALARM
TRANSP:OPAQUE
END:VEVENT
END:VCALENDAR
