BEGIN:VCALENDAR
VERSION:2.0
PRODID:-//OmniMagnetCalendar//EN
BEGIN:VEVENT
DTSTAMP:20190625T195740Z
STATUS:CONFIRMED
UID:hcpalmbeaches.clubs.harvard.edu657
DTSTART:20240410T143000Z
DTEND:20240410T170000Z
LOCATION:Morikami Museum and Japanese Gardens, 4000 Morikami Park Rd, Delray Beach, FL, 33446,
SUMMARY:HBS Club of South Florida: Morikami Museum and Japanese Gardens
DESCRIPTION:Join the HBS Club of South Florida for a docent-led walking tour of the gardens. After the tour, you may visit the museum and purchase your lunch at the Cornell Cafe.
BEGIN:VALARM
TRIGGER:-PT15M
ACTION:DISPLAY
END:VALARM
TRANSP:OPAQUE
END:VEVENT
END:VCALENDAR
