BEGIN:VCALENDAR
VERSION:2.0
PRODID:-//OmniMagnetCalendar//EN
BEGIN:VEVENT
DTSTAMP:20190625T195740Z
STATUS:CONFIRMED
UID:hcpalmbeaches.clubs.harvard.edu658
DTSTART:20240327T220000Z
DTEND:20240328T000000Z
LOCATION:Nova Southeastern University - Alvin Sherman Library, 3100 Ray Ferrero Jr. Blvd., Davie, FL, 33314,
SUMMARY:North Korea: Propaganda, Revolution, and Escape with Casey Lartigue, ALB '89, EdM '91
DESCRIPTION:Don't miss this opportunity to gain valuable insights into one of the world's most pressing humanitarian issues. 
BEGIN:VALARM
TRIGGER:-PT15M
ACTION:DISPLAY
END:VALARM
TRANSP:OPAQUE
END:VEVENT
END:VCALENDAR
