BEGIN:VCALENDAR
VERSION:2.0
PRODID:-//OmniMagnetCalendar//EN
BEGIN:VEVENT
DTSTAMP:20190625T195740Z
STATUS:CONFIRMED
UID:hcpalmbeaches.clubs.harvard.edu663
DTSTART:20240511T154500Z
DTEND:20240511T190000Z
LOCATION:Hilton Fort Lauderdale Beach, 505 N Fort Lauderdale Beach Blvd, Fort Lauderdale, FL, 33304,
SUMMARY:VIP Fort Lauderdale Air Show Experience - Member Exclusive Event!
DESCRIPTION:Join local alumni for a hassle-free VIP air show viewing experience out of the sun with plenty of food and an open bar so you never have to deal with any crowds or miss out on the aviation spectacle going on in front of you.
BEGIN:VALARM
TRIGGER:-PT15M
ACTION:DISPLAY
END:VALARM
TRANSP:OPAQUE
END:VEVENT
END:VCALENDAR
