BEGIN:VCALENDAR
VERSION:2.0
PRODID:-//OmniMagnetCalendar//EN
BEGIN:VEVENT
DTSTAMP:20190625T195740Z
STATUS:CONFIRMED
UID:hcpalmbeaches.clubs.harvard.edu672
DTSTART:20240822T220000Z
DTEND:20240823T000000Z
LOCATION:Tideline Ocean Resort, 2842 S Ocean Blvd, Palm Beach, FL 33480, Palm Beach, FL, 33480, USA,
SUMMARY:Crimson Conversations: Summer Format - RESCHEDULED!
DESCRIPTION:Join the Club for an informal, collaborative format of our Crimson Conversations Speaker Series. It will feature 5-minute mini-TED talks by our members and local Harvard alums.
BEGIN:VALARM
TRIGGER:-PT15M
ACTION:DISPLAY
END:VALARM
TRANSP:OPAQUE
END:VEVENT
END:VCALENDAR
