BEGIN:VCALENDAR
VERSION:2.0
PRODID:-//OmniMagnetCalendar//EN
BEGIN:VEVENT
DTSTAMP:20190625T195740Z
STATUS:CONFIRMED
UID:hcpalmbeaches.clubs.harvard.edu674
DTSTART:20240518T153000Z
DTEND:20240518T174500Z
LOCATION:Loggerhead Marinelife Center , 14200 U.S. Highway 1, Juno Beach, FL, 33408,
SUMMARY:LUNCH | MARINELIFE CENTER TOUR | FISH FEEDING SHOW - UPDATE!
DESCRIPTION:Spend the day with fellow alumni enjoying lunch, leisurely wandering the Marinelife Center, and enjoying a Fish Feeding Show in the amphitheater! Out of an abundance of caution, the Club is canceling the beach clean-up portion of this event.
BEGIN:VALARM
TRIGGER:-PT15M
ACTION:DISPLAY
END:VALARM
TRANSP:OPAQUE
END:VEVENT
END:VCALENDAR
