BEGIN:VCALENDAR
VERSION:2.0
PRODID:-//OmniMagnetCalendar//EN
BEGIN:VEVENT
DTSTAMP:20190625T195740Z
STATUS:CONFIRMED
UID:hcpalmbeaches.clubs.harvard.edu675
DTSTART:20240604T230000Z
DTEND:20240605T010000Z
LOCATION:TopGolf @ The Pomp, 400 Lucky Lane, Pompano Beach, FL, 33069,
SUMMARY:It's Tee Time @ TopGolf in Pompano Beach!
DESCRIPTION:Join the Harvard Club of Broward County for a fun evening filled with conversation and camaraderie in a laid-back atmosphere.
BEGIN:VALARM
TRIGGER:-PT15M
ACTION:DISPLAY
END:VALARM
TRANSP:OPAQUE
END:VEVENT
END:VCALENDAR
