BEGIN:VCALENDAR
VERSION:2.0
PRODID:-//OmniMagnetCalendar//EN
BEGIN:VEVENT
DTSTAMP:20190625T195740Z
STATUS:CONFIRMED
UID:hcpalmbeaches.clubs.harvard.edu676
DTSTART:20240504T153000Z
DTEND:20240504T200000Z
LOCATION:TBD, West Palm Beach, FL,
SUMMARY:Crimson Young Professionals presents SOCIAL SATURDAY!
DESCRIPTION:Social Saturday events will take place on the first Saturday of the month. Join the Club for Brunch and a fun-filled day at SunFest!
BEGIN:VALARM
TRIGGER:-PT15M
ACTION:DISPLAY
END:VALARM
TRANSP:OPAQUE
END:VEVENT
END:VCALENDAR
