BEGIN:VCALENDAR
VERSION:2.0
PRODID:-//OmniMagnetCalendar//EN
BEGIN:VEVENT
DTSTAMP:20190625T195740Z
STATUS:CONFIRMED
UID:hcpalmbeaches.clubs.harvard.edu677
DTSTART:20240724T223000Z
DTEND:20240725T013000Z
LOCATION:Cox Science Center and Aquarium, 4801 Dreher Trail North, West Palm Beach, Florida, 33405,
SUMMARY:Signature Summer Event - Student Send-off!
DESCRIPTION:Join us for a spirited Crimson send-off for Palm Beach County students who will be entering/returning to Harvard this fall. Mix and mingle with recent and not-so-recent grads! Keynote by West Palm Beach Mayor Keith James AB '79, JD '82.
BEGIN:VALARM
TRIGGER:-PT15M
ACTION:DISPLAY
END:VALARM
TRANSP:OPAQUE
END:VEVENT
END:VCALENDAR
