BEGIN:VCALENDAR
VERSION:2.0
PRODID:-//OmniMagnetCalendar//EN
BEGIN:VEVENT
DTSTAMP:20190625T195740Z
STATUS:CONFIRMED
UID:hcpalmbeaches.clubs.harvard.edu679
DTSTART:20240827T233000Z
DTEND:
LOCATION:Guy Harvey Oceanographic Center ~ 3rd Floor Auditorium , 8000 N Ocean Dr., Dania Beach, FL, 33004,
SUMMARY:HC Broward Private Turtle Hatchling Release Event - SOLD OUT!
DESCRIPTION:Prepare yourself for the truly wonderful experience of witnessing endangered sea turtle hatchlings begin their great journey!
BEGIN:VALARM
TRIGGER:-PT15M
ACTION:DISPLAY
END:VALARM
TRANSP:OPAQUE
END:VEVENT
END:VCALENDAR
