BEGIN:VCALENDAR
VERSION:2.0
PRODID:-//OmniMagnetCalendar//EN
BEGIN:VEVENT
DTSTAMP:20190625T195740Z
STATUS:CONFIRMED
UID:hcpalmbeaches.clubs.harvard.edu680
DTSTART:20240911T223000Z
DTEND:20240912T003000Z
LOCATION:Old Palm Beach Post Office, 95 N. County Road, Palm Beach, FL, 33480,
SUMMARY:HAA National Event - Welcome to Your City!
DESCRIPTION:Meet and Greet New Alumni and Residents of Greater Palm Beach and the South Florida region at this once-a-year event that is designed for all of us to get better acquainted.
BEGIN:VALARM
TRIGGER:-PT15M
ACTION:DISPLAY
END:VALARM
TRANSP:OPAQUE
END:VEVENT
END:VCALENDAR
