BEGIN:VCALENDAR
VERSION:2.0
PRODID:-//OmniMagnetCalendar//EN
BEGIN:VEVENT
DTSTAMP:20190625T195740Z
STATUS:CONFIRMED
UID:hcpalmbeaches.clubs.harvard.edu685
DTSTART:20241102T170000Z
DTEND:20241102T190000Z
LOCATION:Irish Brigade (formerly Brogues Downunder), 621 Lake Avenue, Lake Worth, FL, 33460,
SUMMARY:Harvard v. Dartmouth - Watch Party
DESCRIPTION:Come out, watch, and cheer on the Crimson with fellow alumni from Harvard and Dartmouth.
BEGIN:VALARM
TRIGGER:-PT15M
ACTION:DISPLAY
END:VALARM
TRANSP:OPAQUE
END:VEVENT
END:VCALENDAR
