BEGIN:VCALENDAR
VERSION:2.0
PRODID:-//OmniMagnetCalendar//EN
BEGIN:VEVENT
DTSTAMP:20190625T195740Z
STATUS:CONFIRMED
UID:hcpalmbeaches.clubs.harvard.edu686
DTSTART:20241204T230000Z
DTEND:20241205T010000Z
LOCATION:Tideline Ocean Resort, 2842 South Ocean Blvd., Palm Beach, FL, 33480, US,
SUMMARY:A Fireside Chat with Kenneth Paul Morse: Entrepreneurship GURU in Europe and the US - DATE CHANGE!
DESCRIPTION:Kenneth Paul Morse holds the chair in Entrepreneurship, Innovation, and Competitiveness at Delft University of Technology in the Netherlands. A graduate of MIT with an MBA from Harvard, he is a visiting professor at ESADE Business School in Barcelona.
BEGIN:VALARM
TRIGGER:-PT15M
ACTION:DISPLAY
END:VALARM
TRANSP:OPAQUE
END:VEVENT
END:VCALENDAR
