BEGIN:VCALENDAR
VERSION:2.0
PRODID:-//OmniMagnetCalendar//EN
BEGIN:VEVENT
DTSTAMP:20190625T195740Z
STATUS:CONFIRMED
UID:hcpalmbeaches.clubs.harvard.edu687
DTSTART:20240926T220000Z
DTEND:20240927T000000Z
LOCATION:Tideline Ocean Resort, 2842 S Ocean Blvd, Palm Beach, FL 33480, Palm Beach, FL, 33480, USA,
SUMMARY:Crimson Conversations: Summer Format - TAKE 2! - RESCHEDULED!
DESCRIPTION:Out of an abundance of concern and caution for our attendees, speakers, and community, this event has been rescheduled for Thursday, October 24
BEGIN:VALARM
TRIGGER:-PT15M
ACTION:DISPLAY
END:VALARM
TRANSP:OPAQUE
END:VEVENT
END:VCALENDAR
