BEGIN:VCALENDAR
VERSION:2.0
PRODID:-//OmniMagnetCalendar//EN
BEGIN:VEVENT
DTSTAMP:20190625T195740Z
STATUS:CONFIRMED
UID:hcpalmbeaches.clubs.harvard.edu689
DTSTART:20241115T224000Z
DTEND:20241116T003000Z
LOCATION:Norton Museum of Art, 1450 South Dixie Hwy, West Palm Beach, FL, 33401,
SUMMARY:HBS Club of South Florida: Night at the Norton Museum Of Art
DESCRIPTION:The HBS Club of South Florida invites regional alumni for a 50-minute docent-led tour of the amazing Norton Museum of Art. Don't miss this tour! 
BEGIN:VALARM
TRIGGER:-PT15M
ACTION:DISPLAY
END:VALARM
TRANSP:OPAQUE
END:VEVENT
END:VCALENDAR
