BEGIN:VCALENDAR
VERSION:2.0
PRODID:-//OmniMagnetCalendar//EN
BEGIN:VEVENT
DTSTAMP:20190625T195740Z
STATUS:CONFIRMED
UID:hcpalmbeaches.clubs.harvard.edu694
DTSTART:20241022T220000Z
DTEND:20241023T000000Z
LOCATION:Adrienne's Pizzabar, 378 S. Rosemary Ave, West Palm Beach, FL, 33401,
SUMMARY:2024 HBS Global Networking Night - West Palm Beach
DESCRIPTION:The HBS Club of South Florida invites you to join fellow HBS alumni for their West Palm Beach Global Networking Night (GNN) at Adrienne's Pizzabar in WPB!
BEGIN:VALARM
TRIGGER:-PT15M
ACTION:DISPLAY
END:VALARM
TRANSP:OPAQUE
END:VEVENT
END:VCALENDAR
