BEGIN:VCALENDAR
VERSION:2.0
PRODID:-//OmniMagnetCalendar//EN
BEGIN:VEVENT
DTSTAMP:20190625T195740Z
STATUS:CONFIRMED
UID:hcpalmbeaches.clubs.harvard.edu695
DTSTART:20241103T143000Z
DTEND:20241103T180000Z
LOCATION:Broward Table Tennis Club, 3371 N University Dr., Hollywood, FL, 33024,
SUMMARY:HC Broward Major League Table Tennis Brunch Event
DESCRIPTION:BRUNCH & PING PONG! Join the Club for a Sunday morning event with Olympian athletes! Come out to have fun and learn how to play table tennis with Major League Table Tennis Pros! FAMILY EVENT!! 
BEGIN:VALARM
TRIGGER:-PT15M
ACTION:DISPLAY
END:VALARM
TRANSP:OPAQUE
END:VEVENT
END:VCALENDAR
