BEGIN:VCALENDAR
VERSION:2.0
PRODID:-//OmniMagnetCalendar//EN
BEGIN:VEVENT
DTSTAMP:20190625T195740Z
STATUS:CONFIRMED
UID:hcpalmbeaches.clubs.harvard.edu704
DTSTART:20250227T230000Z
DTEND:20250228T010000Z
LOCATION:Tideline Ocean Resort, 2842 South Ocean Blvd, Palm Beach, FL, 33480, US,
SUMMARY:Crimson Conversations - February 2025 - Hybrid event
DESCRIPTION:Join local alumni for a timely presentation by Dr. Robert J. Blendon AM '87: "Implications of the 2024 Election Results for Healthcare"
BEGIN:VALARM
TRIGGER:-PT15M
ACTION:DISPLAY
END:VALARM
TRANSP:OPAQUE
END:VEVENT
END:VCALENDAR
