BEGIN:VCALENDAR
VERSION:2.0
PRODID:-//OmniMagnetCalendar//EN
BEGIN:VEVENT
DTSTAMP:20190625T195740Z
STATUS:CONFIRMED
UID:hcpalmbeaches.clubs.harvard.edu710
DTSTART:20250319T223000Z
DTEND:20250320T003000Z
LOCATION:Meat Market Steakhouse, 191 Bradley Place, Palm Beach, FL, 33480,
SUMMARY:Harvard Global Networking Night 2025
DESCRIPTION:Join the Club to reconnect with classmates and make new connections! GNN is a great opportunity to explore and expand your Harvard Network!
BEGIN:VALARM
TRIGGER:-PT15M
ACTION:DISPLAY
END:VALARM
TRANSP:OPAQUE
END:VEVENT
END:VCALENDAR
