BEGIN:VCALENDAR
VERSION:2.0
PRODID:-//OmniMagnetCalendar//EN
BEGIN:VEVENT
DTSTAMP:20190625T195740Z
STATUS:CONFIRMED
UID:hcpalmbeaches.clubs.harvard.edu711
DTSTART:20250121T230000Z
DTEND:20250122T010000Z
LOCATION:Kaseya Miami (Truist Building), 777 Brickell Ave., Miami, FL, 33131,
SUMMARY:HBS Club of South Florida: AI Startups with HBS Faculty Member Mark Roberge
DESCRIPTION:This event will explore key insights from boardroom discussions, focusing on how AI startups leverage their first-mover advantage and why incumbents must adapt quickly or risk being left behind. 
BEGIN:VALARM
TRIGGER:-PT15M
ACTION:DISPLAY
END:VALARM
TRANSP:OPAQUE
END:VEVENT
END:VCALENDAR
