BEGIN:VCALENDAR
VERSION:2.0
PRODID:-//OmniMagnetCalendar//EN
BEGIN:VEVENT
DTSTAMP:20190625T195740Z
STATUS:CONFIRMED
UID:hcpalmbeaches.clubs.harvard.edu712
DTSTART:20250119T170000Z
DTEND:20250119T210000Z
LOCATION:The Hillsboro Club, 901 Hillsboro Mile, Hillsboro Beach,, FL, 33062,
SUMMARY:HC Broward Hillsboro Inlet and Lighthouse Private Tour - exploration, learning, and relaxation!
DESCRIPTION:Enjoy a private, guided tour of the Hillsboro Inlet and Lighthouse, followed by an engaging discussion on the United States Coast Guard with Liz Booker MPA 2008, CDR, USCG (ret.), relax and enjoy the peaceful surroundings at our reserved beach space.
BEGIN:VALARM
TRIGGER:-PT15M
ACTION:DISPLAY
END:VALARM
TRANSP:OPAQUE
END:VEVENT
END:VCALENDAR
