BEGIN:VCALENDAR
VERSION:2.0
PRODID:-//OmniMagnetCalendar//EN
BEGIN:VEVENT
DTSTAMP:20190625T195740Z
STATUS:CONFIRMED
UID:hcpalmbeaches.clubs.harvard.edu715
DTSTART:20250226T160000Z
DTEND:20250226T190000Z
LOCATION:Virtual,
SUMMARY:HC Cape Cod: Higher Education in a Time of Growing Authoritarianism
DESCRIPTION:Join Iris Yob for a discussion on the growing threat of authoritarian populism to higher education, exploring its impact and potential measures for universities to protect their mission.
BEGIN:VALARM
TRIGGER:-PT15M
ACTION:DISPLAY
END:VALARM
TRANSP:OPAQUE
END:VEVENT
END:VCALENDAR
