BEGIN:VCALENDAR
VERSION:2.0
PRODID:-//OmniMagnetCalendar//EN
BEGIN:VEVENT
DTSTAMP:20190625T195740Z
STATUS:CONFIRMED
UID:hcpalmbeaches.clubs.harvard.edu721
DTSTART:20250402T143000Z
DTEND:20250402T170000Z
LOCATION:Morikami Museum and Japanese Gardens, 4000 Morikami Park Rd, Delray Beach, FL, 33446,
SUMMARY:HBS Club of South Florida: Morikami Museum and Japanese Gardens
DESCRIPTION:Explore the beauty of Morikami on a docent-led walking tour with the HBS Club of South Florida
BEGIN:VALARM
TRIGGER:-PT15M
ACTION:DISPLAY
END:VALARM
TRANSP:OPAQUE
END:VEVENT
END:VCALENDAR
