BEGIN:VCALENDAR
VERSION:2.0
PRODID:-//OmniMagnetCalendar//EN
BEGIN:VEVENT
DTSTAMP:20190625T195740Z
STATUS:CONFIRMED
UID:hcpalmbeaches.clubs.harvard.edu722
DTSTART:20250409T223000Z
DTEND:20250410T003000Z
LOCATION:Alvin Sherman Library, Cotilla Gallery Nova Southeastern University , 3100 Ray Ferrero Jr. Blvd., Davie, FL, 33314,
SUMMARY:A Vision for Tomorrow: Leadership Strategies from the Bloomberg Harvard Initiative
DESCRIPTION:What’s the secret to transforming your city? The answer lies in the Bloomberg Harvard City Leadership Initiative—an exclusive program designed to teach Mayors and City Officials how to lead at the highest level. 
BEGIN:VALARM
TRIGGER:-PT15M
ACTION:DISPLAY
END:VALARM
TRANSP:OPAQUE
END:VEVENT
END:VCALENDAR
