BEGIN:VCALENDAR
VERSION:2.0
PRODID:-//OmniMagnetCalendar//EN
BEGIN:VEVENT
DTSTAMP:20190625T195740Z
STATUS:CONFIRMED
UID:hcpalmbeaches.clubs.harvard.edu723
DTSTART:20250427T140000Z
DTEND:20250427T160000Z
LOCATION:Pelican Harbor Marina, 1275 NE 79 Street, Miami, FL, 33138,
SUMMARY:HBS Club of South Florida: Private City Tour : North Bay Cruise
DESCRIPTION:Embark on a captivating boat tour of northern Biscayne Bay with the HBS Club of South Florida for a captivating boat tour where history comes to life on the water. Discover hidden stories of early settlements and iconic landmarks like Pelican Island.
BEGIN:VALARM
TRIGGER:-PT15M
ACTION:DISPLAY
END:VALARM
TRANSP:OPAQUE
END:VEVENT
END:VCALENDAR
