BEGIN:VCALENDAR
VERSION:2.0
PRODID:-//OmniMagnetCalendar//EN
BEGIN:VEVENT
DTSTAMP:20190625T195740Z
STATUS:CONFIRMED
UID:hcpalmbeaches.clubs.harvard.edu733
DTSTART:20250503T154500Z
DTEND:20250503T200000Z
LOCATION:Hilton Fort Lauderdale Beach, 505 N Fort Lauderdale Beach Blvd, Fort Lauderdale, FL, 33304,
SUMMARY:HC Broward 2-Day VIP Harvard Club Fort Lauderdale Air Show Experience! SUNDAY REGISTRATION
DESCRIPTION:Sunday is Family Fun Day! Join local alumni for a VIP air show experience, where you can enjoy the action in comfort—no sun, no crowds. Indulge in delicious food and drinks from the open bar while never missing a moment of the aerial performances!
BEGIN:VALARM
TRIGGER:-PT15M
ACTION:DISPLAY
END:VALARM
TRANSP:OPAQUE
END:VEVENT
END:VCALENDAR
