BEGIN:VCALENDAR
VERSION:2.0
PRODID:-//OmniMagnetCalendar//EN
BEGIN:VEVENT
DTSTAMP:20190625T195740Z
STATUS:CONFIRMED
UID:hcpalmbeaches.clubs.harvard.edu736
DTSTART:20250426T170000Z
DTEND:20250426T200000Z
LOCATION:Port Everglades  , 2021 Eller Dr., Fort Lauderdale, FL, 33316,
SUMMARY:HC Broward Exclusive: Naval Ship Tour with Ship's Officer
DESCRIPTION:Embark on an exclusive, members-only tour of a U.S. Navy ship and experience life at sea like never before. Guided by an active-duty officer, this behind-the-scenes adventure is a rare opportunity you won't want to miss! 
BEGIN:VALARM
TRIGGER:-PT15M
ACTION:DISPLAY
END:VALARM
TRANSP:OPAQUE
END:VEVENT
END:VCALENDAR
