BEGIN:VCALENDAR
VERSION:2.0
PRODID:-//OmniMagnetCalendar//EN
BEGIN:VEVENT
DTSTAMP:20190625T195740Z
STATUS:CONFIRMED
UID:hcpalmbeaches.clubs.harvard.edu738
DTSTART:20250722T220000Z
DTEND:20250723T003000Z
LOCATION:Cox Science Center and Aquarium, 4801 Dreher Trail North, West Palm Beach, Florida, 33405,
SUMMARY:Signature Summer Event - Student Send-Off!
DESCRIPTION:Join us for a spirited Crimson send-off for Palm Beach County students who will be entering/returning to Harvard this fall. Mix and mingle with recent and not-so-recent grads.  Children are welcome to this family-friendly event!
BEGIN:VALARM
TRIGGER:-PT15M
ACTION:DISPLAY
END:VALARM
TRANSP:OPAQUE
END:VEVENT
END:VCALENDAR
