BEGIN:VCALENDAR
VERSION:2.0
PRODID:-//OmniMagnetCalendar//EN
BEGIN:VEVENT
DTSTAMP:20190625T195740Z
STATUS:CONFIRMED
UID:hcpalmbeaches.clubs.harvard.edu740
DTSTART:20250707T220000Z
DTEND:20250708T000000Z
LOCATION:Tideline Ocean Resort , 2842 South Ocean Blvd, Palm Beach, FL, 33480,
SUMMARY:Addiction for Profit: Dave Aronberg (AB '93, JD '96) Exposes the Rehab Scam
DESCRIPTION:Former State Attorney Dave Aronberg (AB '93, JD 96) joins journalist Miguel Sancho (AB ’92) for an exclusive look at the dark side of rehab in Florida. Don't miss this eye-opening conversation on addiction, fraud, and reform.
BEGIN:VALARM
TRIGGER:-PT15M
ACTION:DISPLAY
END:VALARM
TRANSP:OPAQUE
END:VEVENT
END:VCALENDAR
