BEGIN:VCALENDAR
VERSION:2.0
PRODID:-//OmniMagnetCalendar//EN
BEGIN:VEVENT
DTSTAMP:20190625T195740Z
STATUS:CONFIRMED
UID:hcpalmbeaches.clubs.harvard.edu745
DTSTART:20250714T233000Z
DTEND:20250715T020000Z
LOCATION:Guy Harvey Oceanographic Center, 8000 N Ocean Dr., Dania Beach, FL , FL, 33004, USA,
SUMMARY:Turtle Release with Harvard Club of Broward County - SOLD OUT!
DESCRIPTION:Join us for a private sea turtle hatchling release under the stars. Watch endangered baby sea turtles take their first steps toward the ocean — and directly support the Broward County Sea Turtle Conservation Program at NSU with your attendance!
BEGIN:VALARM
TRIGGER:-PT15M
ACTION:DISPLAY
END:VALARM
TRANSP:OPAQUE
END:VEVENT
END:VCALENDAR
