BEGIN:VCALENDAR
VERSION:2.0
PRODID:-//OmniMagnetCalendar//EN
BEGIN:VEVENT
DTSTAMP:20190625T195740Z
STATUS:CONFIRMED
UID:hcpalmbeaches.clubs.harvard.edu750
DTSTART:20250802T201000Z
DTEND:20250802T231000Z
LOCATION:loanDepot Park, 501 Marlins Way, Miami, FL, 33125,
SUMMARY:Harvard at the Ballpark with Harvard Club of Miami - Marlins vs Yankees
DESCRIPTION:Join your fellow Crimson and cheer on the hometown Miami Marlins or show your spirit for the New York Yankees.
BEGIN:VALARM
TRIGGER:-PT15M
ACTION:DISPLAY
END:VALARM
TRANSP:OPAQUE
END:VEVENT
END:VCALENDAR
