BEGIN:VCALENDAR
VERSION:2.0
PRODID:-//OmniMagnetCalendar//EN
BEGIN:VEVENT
DTSTAMP:20190625T195740Z
STATUS:CONFIRMED
UID:hcpalmbeaches.clubs.harvard.edu756
DTSTART:20250930T220000Z
DTEND:20251001T000000Z
LOCATION:Banko Cantina, 114 S. Olive Ave, West Palm Beach, FL, 33401,
SUMMARY:Harvard Alumni Association National Event - Welcome to Your City!
DESCRIPTION:Meet and greet new alumni and residents of Greater Palm Beach and the South Florida region at this annual event that is designed for all of us to get better acquainted.
BEGIN:VALARM
TRIGGER:-PT15M
ACTION:DISPLAY
END:VALARM
TRANSP:OPAQUE
END:VEVENT
END:VCALENDAR
