BEGIN:VCALENDAR
VERSION:2.0
PRODID:-//OmniMagnetCalendar//EN
BEGIN:VEVENT
DTSTAMP:20190625T195740Z
STATUS:CONFIRMED
UID:hcpalmbeaches.clubs.harvard.edu760
DTSTART:20250925T220000Z
DTEND:20250926T000000Z
LOCATION:Tideline Ocean Resort, 2842 South Ocean Blvd, Palm Beach, FL, 33480, US,
SUMMARY:Crimson Conversations - Roots of Crisis: Understanding Haiti's Present Through its Past
DESCRIPTION:Join us for our monthly speaker series.  Back by popular demand, Elie Lafortune (Kennedy School of Government, MPA '11) will present an extended version of his successful summer format talk: Roots of Crisis: Understanding Haiti's Present Through its Past
BEGIN:VALARM
TRIGGER:-PT15M
ACTION:DISPLAY
END:VALARM
TRANSP:OPAQUE
END:VEVENT
END:VCALENDAR
