BEGIN:VCALENDAR
VERSION:2.0
PRODID:-//OmniMagnetCalendar//EN
BEGIN:VEVENT
DTSTAMP:20190625T195740Z
STATUS:CONFIRMED
UID:hcpalmbeaches.clubs.harvard.edu764
DTSTART:20251019T000000Z
DTEND:20251019T035959Z
LOCATION:The Home of Miguel Sancho,
SUMMARY:'80s Halloween Party!
DESCRIPTION:Join the Club and friends of Miguel Sancho for a rad party! Come dressed as your best '80s self or as your favorite '80s icon.
BEGIN:VALARM
TRIGGER:-PT15M
ACTION:DISPLAY
END:VALARM
TRANSP:OPAQUE
END:VEVENT
END:VCALENDAR
