BEGIN:VCALENDAR
VERSION:2.0
PRODID:-//OmniMagnetCalendar//EN
BEGIN:VEVENT
DTSTAMP:20190625T195740Z
STATUS:CONFIRMED
UID:hcpalmbeaches.clubs.harvard.edu765
DTSTART:20251024T220000Z
DTEND:20251025T000000Z
LOCATION:Tideline Ocean Resort , 2842 South Ocean Blvd , Palm Beach, FL, 33480,
SUMMARY:Carolyn Potter Endowed Lecture - Friday, Oct. 24
DESCRIPTION:Join us for the Inaugural Carolyn Potter Endowed Lecture, presented in memory of our beloved colleague and friend, featuring Dr. Laura Heacock, Associate Professor of Radiology and Director of Clinical Breast MRI, NYU Langone Health.
BEGIN:VALARM
TRIGGER:-PT15M
ACTION:DISPLAY
END:VALARM
TRANSP:OPAQUE
END:VEVENT
END:VCALENDAR
